BEGIN:VCALENDAR
VERSION:2.0
PRODID:-//lagersalg//calendar//DA
CALSCALE:GREGORIAN
METHOD:PUBLISH
BEGIN:VEVENT
UID:9737c70c-13c7-4e48-932f-76668a423d99
DTSTAMP:20260420T024341Z
DTSTART:20260421T070000Z
DTEND:20260421T160000Z
STATUS:CONFIRMED
SUMMARY:MP Denmark Lagersalg
DESCRIPTION:Bytoften 68\, 7400 Herning\, Danmark\n\nhttps://www.lagersalg.com/mp-lagersalg
LOCATION:Bytoften 68\, 7400 Herning\, Danmark
END:VEVENT
BEGIN:VEVENT
UID:c33ac569-8ae1-4e6e-a365-a444ffd66279
DTSTAMP:20260420T024341Z
DTSTART:20260422T070000Z
DTEND:20260422T160000Z
STATUS:CONFIRMED
SUMMARY:MP Denmark Lagersalg
DESCRIPTION:Bytoften 68\, 7400 Herning\, Danmark\n\nhttps://www.lagersalg.com/mp-lagersalg
LOCATION:Bytoften 68\, 7400 Herning\, Danmark
END:VEVENT
BEGIN:VEVENT
UID:684b707d-62ee-4747-97d4-f99a70879788
DTSTAMP:20260420T024341Z
DTSTART:20260423T070000Z
DTEND:20260423T160000Z
STATUS:CONFIRMED
SUMMARY:MP Denmark Lagersalg
DESCRIPTION:Bytoften 68\, 7400 Herning\, Danmark\n\nhttps://www.lagersalg.com/mp-lagersalg
LOCATION:Bytoften 68\, 7400 Herning\, Danmark
END:VEVENT
END:VCALENDAR
