BEGIN:VCALENDAR
VERSION:2.0
PRODID:-//lagersalg//calendar//DA
CALSCALE:GREGORIAN
METHOD:PUBLISH
BEGIN:VEVENT
UID:a98e2d29-cac2-4158-9ea3-702ec31f7931
DTSTAMP:20260425T152957Z
DTSTART:20260528T140000Z
DTEND:20260528T180000Z
STATUS:CONFIRMED
SUMMARY:Odendo Lagersalg
DESCRIPTION:Niels P Thomsens Vej 3\, 7500 Holstebro\, Danmark\n\nhttps://www.lagersalg.com/odendo-lagersalg
LOCATION:Niels P Thomsens Vej 3\, 7500 Holstebro\, Danmark
END:VEVENT
BEGIN:VEVENT
UID:8332632f-e653-440b-a65b-d65454448ee9
DTSTAMP:20260425T152957Z
DTSTART:20260529T100000Z
DTEND:20260529T160000Z
STATUS:CONFIRMED
SUMMARY:Odendo Lagersalg
DESCRIPTION:Niels P Thomsens Vej 3\, 7500 Holstebro\, Danmark\n\nhttps://www.lagersalg.com/odendo-lagersalg
LOCATION:Niels P Thomsens Vej 3\, 7500 Holstebro\, Danmark
END:VEVENT
BEGIN:VEVENT
UID:429a750f-acb7-4317-a499-aa0e2b9e38d2
DTSTAMP:20260425T152957Z
DTSTART:20260530T070000Z
DTEND:20260530T130000Z
STATUS:CONFIRMED
SUMMARY:Odendo Lagersalg
DESCRIPTION:Niels P Thomsens Vej 3\, 7500 Holstebro\, Danmark\n\nhttps://www.lagersalg.com/odendo-lagersalg
LOCATION:Niels P Thomsens Vej 3\, 7500 Holstebro\, Danmark
END:VEVENT
END:VCALENDAR
