BEGIN:VCALENDAR
VERSION:2.0
PRODID:-//lagersalg//calendar//DA
CALSCALE:GREGORIAN
METHOD:PUBLISH
BEGIN:VEVENT
UID:f67b5221-ad66-4469-a3c8-2dc8e5c6f9db
DTSTAMP:20260421T020049Z
DTSTART:20260430T080000Z
DTEND:20260430T180000Z
STATUS:CONFIRMED
SUMMARY:HALO Lagersalg
DESCRIPTION:Balticagade 8\, 8000 Aarhus C\, Danmark\n\nhttps://www.lagersalg.com/halo-newline-lagersalg
LOCATION:Balticagade 8\, 8000 Aarhus C\, Danmark
END:VEVENT
END:VCALENDAR
