BEGIN:VCALENDAR
VERSION:2.0
PRODID:-//lagersalg//calendar//DA
CALSCALE:GREGORIAN
METHOD:PUBLISH
BEGIN:VEVENT
UID:64d5b69d-c990-409e-8830-7d07a160296b
DTSTAMP:20260421T003031Z
DTSTART:20260509T073000Z
DTEND:20260509T140000Z
STATUS:CONFIRMED
SUMMARY:Bon Goût lagersalg hos Holger's
DESCRIPTION:Frejasvej 32\, Hillerød 3400\n\nhttps://www.lagersalg.com/holgers-lagersalg
LOCATION:Frejasvej 32\, Hillerød 3400
END:VEVENT
END:VCALENDAR
