BEGIN:VCALENDAR
VERSION:2.0
PRODID:-//lagersalg//calendar//DA
CALSCALE:GREGORIAN
METHOD:PUBLISH
BEGIN:VEVENT
UID:7bfdd064-e270-42a5-a516-07cc62bdadac
DTSTAMP:20260421T003031Z
DTSTART:20260506T073000Z
DTEND:20260506T160000Z
STATUS:CONFIRMED
SUMMARY:Bon Goût lagersalg hos Holger's
DESCRIPTION:Frejasvej 32\, Hillerød 3400\n\nhttps://www.lagersalg.com/holgers-lagersalg
LOCATION:Frejasvej 32\, Hillerød 3400
END:VEVENT
END:VCALENDAR
