BEGIN:VCALENDAR
VERSION:2.0
PRODID:-//lagersalg//calendar//DA
CALSCALE:GREGORIAN
METHOD:PUBLISH
BEGIN:VEVENT
UID:44bc7168-79a5-4a29-a423-80ac3811621a
DTSTAMP:20260421T002853Z
DTSTART:20260428T073000Z
DTEND:20260428T160000Z
STATUS:CONFIRMED
SUMMARY:Bon Goût lagersalg hos Holger's
DESCRIPTION:Frejasvej 32\, Hillerød 3400\n\nhttps://www.lagersalg.com/holgers-lagersalg
LOCATION:Frejasvej 32\, Hillerød 3400
END:VEVENT
END:VCALENDAR
