BEGIN:VCALENDAR
VERSION:2.0
PRODID:-//lagersalg//calendar//DA
CALSCALE:GREGORIAN
METHOD:PUBLISH
BEGIN:VEVENT
UID:2d6ac57d-5a9c-4807-8453-c5129aec064d
DTSTAMP:20260421T003107Z
DTSTART:20260427T073000Z
DTEND:20260427T160000Z
STATUS:CONFIRMED
SUMMARY:Bon Goût lagersalg hos Holger's
DESCRIPTION:Frejasvej 32\, Hillerød 3400\n\nhttps://www.lagersalg.com/holgers-lagersalg
LOCATION:Frejasvej 32\, Hillerød 3400
END:VEVENT
END:VCALENDAR
