BEGIN:VCALENDAR
VERSION:2.0
PRODID:-//lagersalg//calendar//DA
CALSCALE:GREGORIAN
METHOD:PUBLISH
BEGIN:VEVENT
UID:31465c97-369d-4a1b-976e-e09c3c229fba
DTSTAMP:20260421T002954Z
DTSTART:20260425T073000Z
DTEND:20260425T140000Z
STATUS:CONFIRMED
SUMMARY:Bon Goût lagersalg hos Holger's
DESCRIPTION:Frejasvej 32\, Hillerød 3400\n\nhttps://www.lagersalg.com/holgers-lagersalg
LOCATION:Frejasvej 32\, Hillerød 3400
END:VEVENT
END:VCALENDAR
