BEGIN:VCALENDAR
VERSION:2.0
PRODID:-//lagersalg//calendar//DA
CALSCALE:GREGORIAN
METHOD:PUBLISH
BEGIN:VEVENT
UID:d309d2c3-debf-457a-99c3-1f962e7e4ac4
DTSTAMP:20260421T020044Z
DTSTART:20260501T080000Z
DTEND:20260501T160000Z
STATUS:CONFIRMED
SUMMARY:Maison Nikoui Lagersalg
DESCRIPTION:Istedgade 124\, 1650 København\, Danmark\n\nhttps://www.lagersalg.com/maison-nikoui-lagersalg
LOCATION:Istedgade 124\, 1650 København\, Danmark
END:VEVENT
END:VCALENDAR
