BEGIN:VCALENDAR
VERSION:2.0
PRODID:-//lagersalg//calendar//DA
CALSCALE:GREGORIAN
METHOD:PUBLISH
BEGIN:VEVENT
UID:01cac573-fb43-4d3a-83a2-1f1cd2beda24
DTSTAMP:20260421T015918Z
DTSTART:20260430T080000Z
DTEND:20260430T160000Z
STATUS:CONFIRMED
SUMMARY:Maison Nikoui Lagersalg
DESCRIPTION:Istedgade 124\, 1650 København\, Danmark\n\nhttps://www.lagersalg.com/maison-nikoui-lagersalg
LOCATION:Istedgade 124\, 1650 København\, Danmark
END:VEVENT
END:VCALENDAR
