BEGIN:VCALENDAR
VERSION:2.0
PRODID:-//lagersalg//calendar//DA
CALSCALE:GREGORIAN
METHOD:PUBLISH
BEGIN:VEVENT
UID:b687716b-b212-43bd-883c-da911a4e0fa6
DTSTAMP:20260421T003823Z
DTSTART:20260501T080000Z
DTEND:20260501T153000Z
STATUS:CONFIRMED
SUMMARY:Moster D lagersalg
DESCRIPTION:Industrivej Syd 9B\, 7400 Herning\, Danmark\n\nhttps://www.lagersalg.com/moster-d-lagersalg
LOCATION:Industrivej Syd 9B\, 7400 Herning\, Danmark
END:VEVENT
END:VCALENDAR
