BEGIN:VCALENDAR
VERSION:2.0
PRODID:-//lagersalg//calendar//DA
CALSCALE:GREGORIAN
METHOD:PUBLISH
BEGIN:VEVENT
UID:2e5c0a56-3077-41d9-ae63-4c2ea7393987
DTSTAMP:20260421T003634Z
DTSTART:20260429T080000Z
DTEND:20260429T153000Z
STATUS:CONFIRMED
SUMMARY:Moster D lagersalg
DESCRIPTION:Industrivej Syd 9B\, 7400 Herning\, Danmark\n\nhttps://www.lagersalg.com/moster-d-lagersalg
LOCATION:Industrivej Syd 9B\, 7400 Herning\, Danmark
END:VEVENT
END:VCALENDAR
