BEGIN:VCALENDAR
VERSION:2.0
PRODID:-//lagersalg//calendar//DA
CALSCALE:GREGORIAN
METHOD:PUBLISH
BEGIN:VEVENT
UID:a126ee12-de30-40f4-a265-1d560e353134
DTSTAMP:20260421T003628Z
DTSTART:20260428T080000Z
DTEND:20260428T153000Z
STATUS:CONFIRMED
SUMMARY:Moster D lagersalg
DESCRIPTION:Industrivej Syd 9B\, 7400 Herning\, Danmark\n\nhttps://www.lagersalg.com/moster-d-lagersalg
LOCATION:Industrivej Syd 9B\, 7400 Herning\, Danmark
END:VEVENT
BEGIN:VEVENT
UID:adbfcfe9-6ed6-499c-b71b-d5712ca2022d
DTSTAMP:20260421T003628Z
DTSTART:20260429T080000Z
DTEND:20260429T153000Z
STATUS:CONFIRMED
SUMMARY:Moster D lagersalg
DESCRIPTION:Industrivej Syd 9B\, 7400 Herning\, Danmark\n\nhttps://www.lagersalg.com/moster-d-lagersalg
LOCATION:Industrivej Syd 9B\, 7400 Herning\, Danmark
END:VEVENT
BEGIN:VEVENT
UID:31af4100-3808-42e0-8816-74fba3ff2ec0
DTSTAMP:20260421T003628Z
DTSTART:20260430T080000Z
DTEND:20260430T153000Z
STATUS:CONFIRMED
SUMMARY:Moster D lagersalg
DESCRIPTION:Industrivej Syd 9B\, 7400 Herning\, Danmark\n\nhttps://www.lagersalg.com/moster-d-lagersalg
LOCATION:Industrivej Syd 9B\, 7400 Herning\, Danmark
END:VEVENT
BEGIN:VEVENT
UID:9cc4a8ad-e490-4717-ac5e-8df96699e6c7
DTSTAMP:20260421T003628Z
DTSTART:20260501T080000Z
DTEND:20260501T153000Z
STATUS:CONFIRMED
SUMMARY:Moster D lagersalg
DESCRIPTION:Industrivej Syd 9B\, 7400 Herning\, Danmark\n\nhttps://www.lagersalg.com/moster-d-lagersalg
LOCATION:Industrivej Syd 9B\, 7400 Herning\, Danmark
END:VEVENT
BEGIN:VEVENT
UID:59e0b03e-8c68-47d5-970d-95bc018b9cc3
DTSTAMP:20260421T003628Z
DTSTART:20260502T080000Z
DTEND:20260502T130000Z
STATUS:CONFIRMED
SUMMARY:Moster D lagersalg
DESCRIPTION:Industrivej Syd 9B\, 7400 Herning\, Danmark\n\nhttps://www.lagersalg.com/moster-d-lagersalg
LOCATION:Industrivej Syd 9B\, 7400 Herning\, Danmark
END:VEVENT
END:VCALENDAR
