BEGIN:VCALENDAR
VERSION:2.0
PRODID:-//lagersalg//calendar//DA
CALSCALE:GREGORIAN
METHOD:PUBLISH
BEGIN:VEVENT
UID:0e6a011a-6671-4cb3-bb22-78e0ea83ca3f
DTSTAMP:20260424T021456Z
DTSTART:20260509T080000Z
DTEND:20260509T160000Z
STATUS:CONFIRMED
SUMMARY:Masai lagersalg
DESCRIPTION:Hammerensgade 1\, st. th.\, 1267 København K\, Danmark\n\nhttps://www.lagersalg.com/masai-lagersalg
LOCATION:Hammerensgade 1\, st. th.\, 1267 København K\, Danmark
END:VEVENT
END:VCALENDAR
