BEGIN:VCALENDAR
VERSION:2.0
PRODID:-//lagersalg//calendar//DA
CALSCALE:GREGORIAN
METHOD:PUBLISH
BEGIN:VEVENT
UID:2326c820-a087-4f8b-9d6b-8b8d3c302aa3
DTSTAMP:20260424T021710Z
DTSTART:20260507T080000Z
DTEND:20260507T160000Z
STATUS:CONFIRMED
SUMMARY:Masai lagersalg
DESCRIPTION:Hammerensgade 1\, st. th.\, 1267 København K\, Danmark\n\nhttps://www.lagersalg.com/masai-lagersalg
LOCATION:Hammerensgade 1\, st. th.\, 1267 København K\, Danmark
END:VEVENT
END:VCALENDAR
