BEGIN:VCALENDAR
VERSION:2.0
PRODID:-//lagersalg//calendar//DA
CALSCALE:GREGORIAN
METHOD:PUBLISH
BEGIN:VEVENT
UID:49545464-c8fc-41c4-bb30-354a7d90e6f2
DTSTAMP:20260421T003848Z
DTSTART:20260429T110000Z
DTEND:20260429T153000Z
STATUS:CONFIRMED
SUMMARY:Kildemoes outlet
DESCRIPTION:Albanivej 7\, 5792 Årslev\, Danmark\n\nhttps://www.lagersalg.com/kildemoes-outlet
LOCATION:Albanivej 7\, 5792 Årslev\, Danmark
END:VEVENT
END:VCALENDAR
