BEGIN:VCALENDAR
VERSION:2.0
PRODID:-//lagersalg//calendar//DA
CALSCALE:GREGORIAN
METHOD:PUBLISH
BEGIN:VEVENT
UID:428a9dcd-fcc4-4a35-af67-6fdbabf118c0
DTSTAMP:20260421T003628Z
DTSTART:20260429T110000Z
DTEND:20260429T153000Z
STATUS:CONFIRMED
SUMMARY:Kildemoes outlet
DESCRIPTION:Albanivej 7\, 5792 Årslev\, Danmark\n\nhttps://www.lagersalg.com/kildemoes-outlet
LOCATION:Albanivej 7\, 5792 Årslev\, Danmark
END:VEVENT
BEGIN:VEVENT
UID:2a789886-cabd-4d5e-9d73-a208a1c1ec33
DTSTAMP:20260421T003628Z
DTSTART:20260430T110000Z
DTEND:20260430T153000Z
STATUS:CONFIRMED
SUMMARY:Kildemoes outlet
DESCRIPTION:Albanivej 7\, 5792 Årslev\, Danmark\n\nhttps://www.lagersalg.com/kildemoes-outlet
LOCATION:Albanivej 7\, 5792 Årslev\, Danmark
END:VEVENT
BEGIN:VEVENT
UID:fff2f0c9-ef17-4408-85f7-56fd7ea3d4df
DTSTAMP:20260421T003628Z
DTSTART:20260501T110000Z
DTEND:20260501T153000Z
STATUS:CONFIRMED
SUMMARY:Kildemoes outlet
DESCRIPTION:Albanivej 7\, 5792 Årslev\, Danmark\n\nhttps://www.lagersalg.com/kildemoes-outlet
LOCATION:Albanivej 7\, 5792 Årslev\, Danmark
END:VEVENT
BEGIN:VEVENT
UID:b9b9ca52-4852-463f-a0af-f2725843d584
DTSTAMP:20260421T003628Z
DTSTART:20260502T080000Z
DTEND:20260502T130000Z
STATUS:CONFIRMED
SUMMARY:Kildemoes outlet
DESCRIPTION:Albanivej 7\, 5792 Årslev\, Danmark\n\nhttps://www.lagersalg.com/kildemoes-outlet
LOCATION:Albanivej 7\, 5792 Årslev\, Danmark
END:VEVENT
END:VCALENDAR
