BEGIN:VCALENDAR
VERSION:2.0
PRODID:-//lagersalg//calendar//DA
CALSCALE:GREGORIAN
METHOD:PUBLISH
BEGIN:VEVENT
UID:f40a66bf-99a4-4c90-9d8f-7a9c104be056
DTSTAMP:20260421T023234Z
DTSTART:20260503T070000Z
DTEND:20260503T130000Z
STATUS:CONFIRMED
SUMMARY:Spring Copenhagen lagersalg i Hjørring
DESCRIPTION:Frilandsvej 100\, 9800 Hjørring\, Danmark\n\nhttps://www.lagersalg.com/spring-copenhagen-lagersalg-i-hjoerring
LOCATION:Frilandsvej 100\, 9800 Hjørring\, Danmark
END:VEVENT
END:VCALENDAR
