BEGIN:VCALENDAR
VERSION:2.0
PRODID:-//lagersalg//calendar//DA
CALSCALE:GREGORIAN
METHOD:PUBLISH
BEGIN:VEVENT
UID:87e50bb9-86cb-4b94-9e1b-917622047199
DTSTAMP:20260425T135518Z
DTSTART:20260509T080000Z
DTEND:20260509T150000Z
STATUS:CONFIRMED
SUMMARY:Hübsch Lagersalg
DESCRIPTION:Jupitervej 7\, 7430 Ikast\, Danmark\n\nhttps://www.lagersalg.com/hubsch-lagersalg
LOCATION:Jupitervej 7\, 7430 Ikast\, Danmark
END:VEVENT
END:VCALENDAR
