BEGIN:VCALENDAR
VERSION:2.0
PRODID:-//lagersalg//calendar//DA
CALSCALE:GREGORIAN
METHOD:PUBLISH
BEGIN:VEVENT
UID:8288976f-8254-4d65-803b-998ba3173fe1
DTSTAMP:20260425T135834Z
DTSTART:20260508T100000Z
DTEND:20260508T170000Z
STATUS:CONFIRMED
SUMMARY:Hübsch Lagersalg
DESCRIPTION:Jupitervej 7\, 7430 Ikast\, Danmark\n\nhttps://www.lagersalg.com/hubsch-lagersalg
LOCATION:Jupitervej 7\, 7430 Ikast\, Danmark
END:VEVENT
END:VCALENDAR
