BEGIN:VCALENDAR
VERSION:2.0
PRODID:-//lagersalg//calendar//DA
CALSCALE:GREGORIAN
METHOD:PUBLISH
BEGIN:VEVENT
UID:dd4c7bc1-739c-49ee-8d0e-ee1d78ea866d
DTSTAMP:20260425T135911Z
DTSTART:20260503T080000Z
DTEND:20260503T140000Z
STATUS:CONFIRMED
SUMMARY:Hübsch Lagersalg
DESCRIPTION:Jupitervej 7\, 7430 Ikast\, Danmark\n\nhttps://www.lagersalg.com/hubsch-lagersalg
LOCATION:Jupitervej 7\, 7430 Ikast\, Danmark
END:VEVENT
END:VCALENDAR
