BEGIN:VCALENDAR
VERSION:2.0
PRODID:-//lagersalg//calendar//DA
CALSCALE:GREGORIAN
METHOD:PUBLISH
BEGIN:VEVENT
UID:5955fe6c-18f9-49bd-9807-ce0c9527d2f7
DTSTAMP:20260425T135323Z
DTSTART:20260502T080000Z
DTEND:20260502T150000Z
STATUS:CONFIRMED
SUMMARY:Hübsch Lagersalg
DESCRIPTION:Jupitervej 7\, 7430 Ikast\, Danmark\n\nhttps://www.lagersalg.com/hubsch-lagersalg
LOCATION:Jupitervej 7\, 7430 Ikast\, Danmark
END:VEVENT
END:VCALENDAR
