BEGIN:VCALENDAR
VERSION:2.0
PRODID:-//lagersalg//calendar//DA
CALSCALE:GREGORIAN
METHOD:PUBLISH
BEGIN:VEVENT
UID:6b38456e-d277-4c78-b4e2-9244d45b12a3
DTSTAMP:20260425T135911Z
DTSTART:20260501T100000Z
DTEND:20260501T170000Z
STATUS:CONFIRMED
SUMMARY:Hübsch Lagersalg
DESCRIPTION:Jupitervej 7\, 7430 Ikast\, Danmark\n\nhttps://www.lagersalg.com/hubsch-lagersalg
LOCATION:Jupitervej 7\, 7430 Ikast\, Danmark
END:VEVENT
END:VCALENDAR
