BEGIN:VCALENDAR
VERSION:2.0
PRODID:-//lagersalg//calendar//DA
CALSCALE:GREGORIAN
METHOD:PUBLISH
BEGIN:VEVENT
UID:009a8d8b-471f-4fff-8a26-0c61902ab24a
DTSTAMP:20260419T182218Z
DTSTART:20260421T050000Z
DTEND:20260421T160000Z
STATUS:CONFIRMED
SUMMARY:Brands4Kids Lagersalg
DESCRIPTION:Industrivej 25\, 7430 Ikast\, Danmark\n\nhttps://www.lagersalg.com/brands4kids-lagersalg
LOCATION:Industrivej 25\, 7430 Ikast\, Danmark
END:VEVENT
BEGIN:VEVENT
UID:499e83aa-06bb-4202-ad9f-5b9f0b354f88
DTSTAMP:20260419T182218Z
DTSTART:20260422T060000Z
DTEND:20260422T140000Z
STATUS:CONFIRMED
SUMMARY:Brands4Kids Lagersalg
DESCRIPTION:Industrivej 25\, 7430 Ikast\, Danmark\n\nhttps://www.lagersalg.com/brands4kids-lagersalg
LOCATION:Industrivej 25\, 7430 Ikast\, Danmark
END:VEVENT
END:VCALENDAR
